BEGIN:VCALENDAR
VERSION:2.0
PRODID:-//Movement - ECPv6.15.20//NONSGML v1.0//EN
CALSCALE:GREGORIAN
METHOD:PUBLISH
X-WR-CALNAME:Movement
X-ORIGINAL-URL:https://move.love
X-WR-CALDESC:Events for Movement
REFRESH-INTERVAL;VALUE=DURATION:PT1H
X-Robots-Tag:noindex
X-PUBLISHED-TTL:PT1H
BEGIN:VTIMEZONE
TZID:America/Los_Angeles
BEGIN:DAYLIGHT
TZOFFSETFROM:-0800
TZOFFSETTO:-0700
TZNAME:PDT
DTSTART:20240310T100000
END:DAYLIGHT
BEGIN:STANDARD
TZOFFSETFROM:-0700
TZOFFSETTO:-0800
TZNAME:PST
DTSTART:20241103T090000
END:STANDARD
BEGIN:DAYLIGHT
TZOFFSETFROM:-0800
TZOFFSETTO:-0700
TZNAME:PDT
DTSTART:20250309T100000
END:DAYLIGHT
BEGIN:STANDARD
TZOFFSETFROM:-0700
TZOFFSETTO:-0800
TZNAME:PST
DTSTART:20251102T090000
END:STANDARD
BEGIN:DAYLIGHT
TZOFFSETFROM:-0800
TZOFFSETTO:-0700
TZNAME:PDT
DTSTART:20260308T100000
END:DAYLIGHT
BEGIN:STANDARD
TZOFFSETFROM:-0700
TZOFFSETTO:-0800
TZNAME:PST
DTSTART:20261101T090000
END:STANDARD
END:VTIMEZONE
BEGIN:VEVENT
DTSTART;TZID=America/Los_Angeles:20250824T100000
DTEND;TZID=America/Los_Angeles:20250824T130000
DTSTAMP:20260421T152543
CREATED:20250806T053009Z
LAST-MODIFIED:20250824T193103Z
UID:10001321-1756029600-1756040400@move.love
SUMMARY:MOVEMENT Ecstatic Dance SF // RABELLION
DESCRIPTION:Curating a deeply intentional\, safe sacred space to connect\, explore and celebrate – by dancing together in community\, we thrive.\n\n\n9:45am – Doors Open \n10:00am – Contact Improv Class: JULIANA MENDONCA \n10:45am – Opening Circle & Meditation: ARIELLE BROWN \n11:00am – Ecstatic Dance – REBELLION \n1:00pm – Sound Bath / Closing Meditation: ARIELLE \n1:11pm – All Blessings! \n \nImportant Notes: \n⌯ Events start promptly\, Join us for the full experience! \n⌯ All events are alcohol and substance free \n⌯ Bring your own water \n⌯ Shoes off at the door\, and no conversation on the dance floor once we begin \n⌯ Come with an open heart – ready to listen\, move & receive \n \nMOVEMENT is dedicated to nourishing a culture of creative expression through music & movement that honors the sacred. Curating a deeply intentional\, safe and sacred space to connect\, play\, celebrate and embody the Spirit of Love. By raising the vibration and dancing together in community\, we thrive. \nLearn more at https://move.love/ \n \nRABELLION // Music Facilitator\nTati / Rabellion makes medicine music for the dance floor. Mixing Latin-infused organic elements & ancient sounds with electronic productions – she combines her skills as producer\, singer\, songwriter & sound healer\, to help lift our spirits and heal our hearts. Her latest releases can be found within Mose’s label Resueño and High Vibe Records. \nOriginally from Puerto Rico and currently based in Santa Cruz\, she has been booked to play her music in 4 continents\, 11 countries and over 50 cities worldwide\, including: Tulum\, Goa\, Hawaii\, Barcelona\, Madrid\, Amsterdam\, Los Angeles\, San Francisco\, Portland\, and many more – sharing the stage with lead artists in the organic electronic scene such as Mose\, J.Pool & other influential voices. In addition to having a Masters in Music from Berklee\, she has 7 EPs under various music projects and multiple singles released within Resueño compilations. \nIn her live sets\, Tati / Rabellion combines her experience as an energy healer with her voice and original productions throughout her DJ set\, to offer us a unique musical healing journey. A deep voyage integrating bass beats\, Latin grooves\, electronic medicine music and several genres across the globe\, to help us feel into all the different sides of our being\, and dance our way through any stuck energies or emotions. Building towards an ecstatic peak of blissful liberation and freedom\, in order to use the dance floor to generate higher frequencies. \nTati is a Reiki Master Teacher\, cacao ceremony facilitator\, and energy healing practitioner\, with over a decade of experience in the Healing Arts\, and with direct training from multiple shamans and curanderas from Latin America. Her music reflects this deep connection with healing work & nature in all its forms. Her live music experience provide a form of ceremonial offering\, with the goal of uplifting through the use of music as medicine. \nThe entire concept of ‘Rabellion‘ is to help bring about a revolution of mind\, body and soul. Helping people everywhere awaken to the full essence of their being by combining voice\, music\, dance and sound healing to connect with themselves. When we realize that we are so much more than physical beings\, we can begin to experience deeper healing\, joy\, creation\, and magic. \nhttps://soundcloud.com/rabellion \n \nJULIANA MENDONCA // Contact Improv Class\nJuliana Mendonca is a Venezuelan Contemporary Dance Performer\, Choreographer and Teacher. She is an innovative bodyworker influenced by Latin Traditional Dances\, Butoh\, Contact Improvisation and Physical Theater. Throughout her career she has developed a unique language with which she can express and create powerful art and healing. She has dedicated many years to creating projects and performances inspired by water: Raíz de Agua\, La Naciente\, Drop & Drought\, Liquidanza\, Sono Somatic\, water has represented a very important element to understand herself. She currently directs her own proposal for relaxation and dance practice in the water\, Liquidanza. She also works with Destiny Arts Center\, La Peña Cultural Center\, Private Events\, and collaborates with other Bay Area Artists. (www.liquidanza.com) \n \nARIELLE BROWN // Sacred Space Holder\nArielle Brown is a temple keeper\, community steward\, and devoted oracle of The Sacred. With roots in intimacy work\, somatic group facilitation\, and ritual design\, she orchestrates containers where the transformational power of presence\, dance\, and embodied connection becomes a form of communion — a place to remember\, release\, and reorient to what is most true. As a DJ\, musical intuitive\, and alchemical vocalist\, she curates soundscapes that awaken the body’s innate intelligence and invite collective coherence through rhythm\, voice\, and revelation.✨ \n \nA Consensual Environment \n*** As we come together in sacred movement practice\, let us remember to embody the values of consent and mindfulness. May we dance in reverence for each other’s boundaries\, always seeking clear permission before engaging in physical connection\, and maintaining awareness of the sacred space we share with our fellow dancers. \nIf at any point you find yourself in need of support or comfort\, know that you are not alone. Our Movement Church community is here to assist and guide you. Simply reach out to one of us\, and we will do our utmost to provide a safe and nurturing environment for your journey. \n \nVolunteer Opportunity: Show up at 9am sharp! for Openingor ask at the door for Closing Opportunities.@ Sacred Heart Church 554 Fillmore St.\, SF\, CA Street Parking \n \n\nAll are Welcome. \nEcstatic Dance is a Freeform Conscious Dance\, \nMixed by a Seasoned DJ for a Continuous Sonic Journey. \nMove however you wish\, without verbal guidance\, shoes\, or booze. \nMusic will flow through various Tempos\, Genres\, Intensities\, and Emotions\, so that Dancers may Experience\, Express\, and Transform their own Energies on the Dancefloor Together. \n \nEcstatic Dance can be your: \n1. Physical Exercise \n2. Mental Therapy \n3. Connection to Spirit \n4. Social Connection with Others \n5. Personal Connection with Self \nWe only ask that you refrain from: \n1. Talking on the Dancefloor \n2. Using your Phone \n3. Wearing Shoes \n4. Using Substances (Be Yourself!) \n \n@ Sacred Heart Church (of 8 Wheels) \n554 Fillmore St.\, SF\, CA \nWebsite: https://move.love
URL:https://move.love/event/movement-ecstatic-dance-sf-rebellion/
LOCATION:554 Fillmore St\, 554 Fillmore Street\, San Francisco\, CA\, 94117\, United States
ATTACH;FMTTYPE=image/jpeg:https://mvmnt.b-cdn.net/wp-content/uploads/2025/08/62594d02857f25f8cae615001a85da1f.jpg
END:VEVENT
BEGIN:VEVENT
DTSTART;TZID=America/Los_Angeles:20250824T131500
DTEND;TZID=America/Los_Angeles:20250824T160000
DTSTAMP:20260421T152543
CREATED:20250313T213504Z
LAST-MODIFIED:20250926T021726Z
UID:10000555-1756041300-1756051200@move.love
SUMMARY:Weekly Sunday Beach Ecstatic Dance
DESCRIPTION:Join us for an unforgettable dance experience on the beach in West Los Angeles! Feel the sand beneath your feet and the ocean breeze on your skin as you dance freely in a vibrant\, welcoming space. \nCome dance\, move\, express\, and connect while enjoying incredible music in some of the most beautiful locations across Los Angeles. Part silent disco\, part healthy dance party\, part rave\, and part intentional conscious dance experience—our events are centered on movement for wellbeing\, joy\, and community connection. We dance for health\, joy\, connection\, play\, and a deeper sense of community. \nThis is more than just an afternoon of movement—it’s a celebration of life and an opportunity to experience the transformative benefits of this powerful embodiment practice. \nTHE FLOW \nEach event begins with an opening circle\, offering a moment to connect\, set intentions\, and ground ourselves in presence. From there\, we take off into a 2-hour musical wave\, building in intensity and weaving sounds and rhythms from around the world. Move to the rhythm of epic live DJ sets\, surrounded by an incredible community of like-minded souls. Discover a deeper connection to yourself\, to life\, and to others as we dance by the ocean together in paradise\, moving to electrifying and transformative DJ sets that will leave you inspired and uplifted! \nCome for the MOVEMENT\, stay for the magic. We can’t wait to share this special experience with you! \nEVENT LOCATIONWEST LOS ANGELESDance floor address and directions will be included in your ticket confirmation email.
URL:https://move.love/event/weekly-sunday-outdoor-beach-ecstatic-dance/2025-08-24/
LOCATION:West LA Beach
ATTACH;FMTTYPE=image/jpeg:https://mvmnt.b-cdn.net/wp-content/uploads/2025/03/ecstatic-dance-la-beach-dance.jpg
END:VEVENT
END:VCALENDAR