BEGIN:VCALENDAR
VERSION:2.0
PRODID:-//Movement - ECPv6.15.20//NONSGML v1.0//EN
CALSCALE:GREGORIAN
METHOD:PUBLISH
X-WR-CALNAME:Movement
X-ORIGINAL-URL:https://move.love
X-WR-CALDESC:Events for Movement
REFRESH-INTERVAL;VALUE=DURATION:PT1H
X-Robots-Tag:noindex
X-PUBLISHED-TTL:PT1H
BEGIN:VTIMEZONE
TZID:America/Los_Angeles
BEGIN:DAYLIGHT
TZOFFSETFROM:-0800
TZOFFSETTO:-0700
TZNAME:PDT
DTSTART:20240310T100000
END:DAYLIGHT
BEGIN:STANDARD
TZOFFSETFROM:-0700
TZOFFSETTO:-0800
TZNAME:PST
DTSTART:20241103T090000
END:STANDARD
BEGIN:DAYLIGHT
TZOFFSETFROM:-0800
TZOFFSETTO:-0700
TZNAME:PDT
DTSTART:20250309T100000
END:DAYLIGHT
BEGIN:STANDARD
TZOFFSETFROM:-0700
TZOFFSETTO:-0800
TZNAME:PST
DTSTART:20251102T090000
END:STANDARD
BEGIN:DAYLIGHT
TZOFFSETFROM:-0800
TZOFFSETTO:-0700
TZNAME:PDT
DTSTART:20260308T100000
END:DAYLIGHT
BEGIN:STANDARD
TZOFFSETFROM:-0700
TZOFFSETTO:-0800
TZNAME:PST
DTSTART:20261101T090000
END:STANDARD
END:VTIMEZONE
BEGIN:VEVENT
DTSTART;TZID=America/Los_Angeles:20250831T100000
DTEND;TZID=America/Los_Angeles:20250902T203000
DTSTAMP:20260421T134732
CREATED:20250811T035815Z
LAST-MODIFIED:20250903T031403Z
UID:10001323-1756634400-1756845000@move.love
SUMMARY:MOVEMENT Ecstatic Dance SF // VESICA
DESCRIPTION:Curating a deeply intentional\, safe sacred space to connect\, explore and celebrate – by dancing together in community\, we thrive.\n\n\n9:45am – Doors Open \n10:00am – Opening Yoga Flow: KIRIN POWER \n10:45am – Opening Circle & Meditation: KIRIN \n11:00am – Ecstatic Dance – VESICA \n1:00pm – Sound Bath / Closing Meditation: KIRIN \n1:11pm – All Blessings! \n \nImportant Notes: \n⌯ Events start promptly\, Join us for the full experience! \n⌯ All events are alcohol and substance free \n⌯ Bring your own water \n⌯ Shoes off at the door\, and no conversation on the dance floor once we begin \n⌯ Come with an open heart – ready to listen\, move & receive \n \nMOVEMENT is dedicated to nourishing a culture of creative expression through music & movement that honors the sacred. Curating a deeply intentional\, safe and sacred space to connect\, play\, celebrate and embody the Spirit of Love. By raising the vibration and dancing together in community\, we thrive. \nLearn more at https://move.love/ \n \nVESICA // Music Facilitator\nVESICA is an Oakland-based Ecstatic Dance DJ whose journey began in the early days at the Ecstatic Dance at Sweets Ballroom in 2008. In 2010\, VESICA co-founded Ecstatic Dance Berlin —the movement’s first international offshoot— helping spark its worldwide spread. Since then\, VESICA has been invited to share sets across the world\, from Lightning in a Bottle and cities like Los Angeles\, Nevada City\, and Oakland\, to far-reaching dance floors in Moscow\, Bukarest\, Barcelona\, and Ibiza. \nVESICA is a dancers’ DJ with a predilection for soulful organic world beats and scrumptious global bass. Her sets are poly-genre\, tempo-morphing\, dance floor love that irresistibly moves feet\, hips and heart into a deep and embodied journey of catharsis and transformation. VESICA invites you to lose and find yourself in the dance. \nsoundcloud.com/vesica-ecstatic/bass-bliss \n \nKIRIN POWER // Opening Yoga Flow\nKirin Power is a Bay Area based student and teacher of yoga and meditation\, and a lover of dance. \nAlchemizing yogic technologies— breath\, movement\, mantra\, & meditation\, with a thoughtful curation of music– Kirin’s inspired\, creative\, and informed offerings invite you to awaken to the wonder and Awe of being alive and embodied! \nEach flow is designed to activate your mind and body connection\, while improving your body’s flexibility and resiliency\, and of course\, empower you to express your sacred truth through movement on the dance floor. \nKirin hopes that your time together will remind you of the medicine that is gratitude\, and leave you feeling held in self love\, in savor of breath\, and at ease in heart.✨ \n \n\nAll are Welcome. \nEcstatic Dance is a Freeform Conscious Dance\, \nMixed by a Seasoned DJ for a Continuous Sonic Journey. \nMove however you wish\, without verbal guidance\, shoes\, or booze. \nMusic will flow through various Tempos\, Genres\, Intensities\, and Emotions\, so that Dancers may Experience\, Express\, and Transform their own Energies on the Dancefloor Together. \n \nEcstatic Dance can be your: \n1. Physical Exercise \n2. Mental Therapy \n3. Connection to Spirit \n4. Social Connection with Others \n5. Personal Connection with Self \nWe only ask that you refrain from: \n1. Talking on the Dancefloor \n2. Using your Phone \n3. Wearing Shoes \n4. Using Substances (Be Yourself!) \n \nA Consensual Environment \n*** As we come together in sacred movement practice\, let us remember to embody the values of consent and mindfulness. May we dance in reverence for each other’s boundaries\, always seeking permission\, eye contact and a CLEAR YES before engaging in physical connection\, and maintaining awareness of the sacred space we share with our fellow dancers. \nIf at any point you find yourself in need of support or comfort\, know that you are not alone. Our Movement Church community is here to assist and guide you. Simply reach out to one of us\, and we will do our utmost to provide a safe and nurturing environment for your journey. \n \nVolunteer Opportunity: Show up at 9am sharp! for Openingor ask at the door for Closing Opportunities.@ Sacred Heart Church 554 Fillmore St.\, SF\, CA Street Parking \n \n@ Sacred Heart Church (of 8 Wheels) \n554 Fillmore St.\, SF\, CA \nWebsite: https://move.love
URL:https://move.love/event/movement-ecstatic-dance-alia/
LOCATION:554 Fillmore St\, 554 Fillmore Street\, San Francisco\, CA\, 94117\, United States
ATTACH;FMTTYPE=image/jpeg:https://mvmnt.b-cdn.net/wp-content/uploads/2025/08/a84bf2d0e8688445237c15afcc6c5e5c.jpg
END:VEVENT
END:VCALENDAR