BEGIN:VCALENDAR
VERSION:2.0
PRODID:-//Movement - ECPv6.15.20//NONSGML v1.0//EN
CALSCALE:GREGORIAN
METHOD:PUBLISH
X-ORIGINAL-URL:https://move.love
X-WR-CALDESC:Events for Movement
REFRESH-INTERVAL;VALUE=DURATION:PT1H
X-Robots-Tag:noindex
X-PUBLISHED-TTL:PT1H
BEGIN:VTIMEZONE
TZID:America/Los_Angeles
BEGIN:DAYLIGHT
TZOFFSETFROM:-0800
TZOFFSETTO:-0700
TZNAME:PDT
DTSTART:20240310T100000
END:DAYLIGHT
BEGIN:STANDARD
TZOFFSETFROM:-0700
TZOFFSETTO:-0800
TZNAME:PST
DTSTART:20241103T090000
END:STANDARD
BEGIN:DAYLIGHT
TZOFFSETFROM:-0800
TZOFFSETTO:-0700
TZNAME:PDT
DTSTART:20250309T100000
END:DAYLIGHT
BEGIN:STANDARD
TZOFFSETFROM:-0700
TZOFFSETTO:-0800
TZNAME:PST
DTSTART:20251102T090000
END:STANDARD
BEGIN:DAYLIGHT
TZOFFSETFROM:-0800
TZOFFSETTO:-0700
TZNAME:PDT
DTSTART:20260308T100000
END:DAYLIGHT
BEGIN:STANDARD
TZOFFSETFROM:-0700
TZOFFSETTO:-0800
TZNAME:PST
DTSTART:20261101T090000
END:STANDARD
END:VTIMEZONE
BEGIN:VEVENT
DTSTART;TZID=America/Los_Angeles:20251005T100000
DTEND;TZID=America/Los_Angeles:20251005T131100
DTSTAMP:20260421T121044
CREATED:20250922T015054Z
LAST-MODIFIED:20251005T194947Z
UID:10001329-1759658400-1759669860@move.love
SUMMARY:MOVEMENT Ecstatic Dance SF // HABITAAT
DESCRIPTION:Curating a deeply intentional\, safe sacred space to connect\, explore and celebrate – by dancing together in community\, we thrive.\n\n\n9:45am – Doors Open \n10:00am – Contact Improv Class: JULIANA MENDONCA \n10:45am – Opening Circle & Meditation: JÄMI DEVA \n11:00am – Ecstatic Dance – HABITAAT \n1:00pm – Sound Bath / Closing Meditation: JÄMI \n1:11pm – Closing Circle \n \nImportant Notes: \n⌯ Events start promptly\, Join us for the full experience! \n⌯ All events are alcohol and substance free \n⌯ Bring your own water \n⌯ Shoes off at the door\, and no conversation on the dance floor once we begin \n⌯ Come with an open heart – ready to listen\, move & receive \n \nMOVEMENT is dedicated to nourishing a culture of creative expression through music & movement that honors the sacred. Curating a deeply intentional\, safe and sacred space to connect\, play\, celebrate and embody the Spirit of Love. By raising the vibration and dancing together in community\, we thrive. \nLearn more at https://move.love/ \n \nHABITAAT // Music Facilitator\nHABITAAT is a multifaceted DJ composer making waves in the organic electronic music space. Brazil-born and San Francisco-raised\, HABITAAT’s unique production is influenced by hip-hop\, cinematic movie scores and underground club music\, with the aim to make you feel like you are dancing surrounded by nature. \nHABITAAT has released music with Odyzey and Gravitas\, and has shared the stage with artists such as Bonobo\, Parra for Cuva\, Tycho and CloZee (including a Red Rocks Amphitheater performance in 2022). \nBlending infectious dance beats and organic melodic sounds\, HABITAAT’s soundscapes mirror the beauty of our own natural world in danceable and psychedelic ways. Through sound\, he aims to create an immersive and emotive experience that is meant leave you inspired and connected to the part of you that makes you human. \nhttps://habitaatmusic.com \n🎶 Spotify \n \nJULIANA MENDONCA // Contact Improv Class\nJuliana Mendonca is a Venezuelan Contemporary Dance Performer\, Choreographer and Teacher. She is an innovative bodyworker influenced by Latin Traditional Dances\, Butoh\, Contact Improvisation and Physical Theater. Throughout her career she has developed a unique language with which she can express and create powerful art and healing. She has dedicated many years to creating projects and performances inspired by water: Raíz de Agua\, La Naciente\, Drop & Drought\, Liquidanza\, Sono Somatic\, water has represented a very important element to understand herself. She currently directs her own proposal for relaxation and dance practice in the water\, Liquidanza. She also works with Destiny Arts Center\, La Peña Cultural Center\, Private Events\, and collaborates with other Bay Area Artists. (www.liquidanza.com) \n \n \nJÄMI DEVA // Sacred Space Holder\nJÄMI is the new steward of Ecstatic Dance SF and the Founder of MOVEMENT Church – and a Vibrational Architect\, designing potent life-changing experiences for tens of thousands worldwide in live workshops\, breathwork empowerments and ecstatic dances since 2010. \nStudying and practicing with the Sufi’s for over 20 years\, Jämi is a visionary producer with an ear for the exotic.He believes that Music\, Breath and Movement are the keys to unlocking human potential and returning to the natural frequency of True Love. Jämi has dedicated his life work to the expansion of consciousness.✨ \n \n \nA Consensual Environment \n*** As we come together in sacred movement practice\, let us remember to embody the values of consent and mindfulness. May we dance in reverence for each other’s boundaries\, always seeking clear permission before engaging in physical connection\, and maintaining awareness of the sacred space we share with our fellow dancers. \nIf at any point you find yourself in need of support or comfort\, know that you are not alone. Our Movement Church community is here to assist and guide you. Simply reach out to one of us\, and we will do our utmost to provide a safe and nurturing environment for your journey. \n \nVolunteer Opportunity: Show up at 9am sharp! for Openingor ask at the door for Closing Opportunities.@ Sacred Heart Church 554 Fillmore St.\, SF\, CA Street Parking \n \n\nAll are Welcome. \nEcstatic Dance is a Freeform Conscious Dance\, \nMixed by a Seasoned DJ for a Continuous Sonic Journey. \nMove however you wish\, without verbal guidance\, shoes\, or booze. \nMusic will flow through various Tempos\, Genres\, Intensities\, and Emotions\, so that Dancers may Experience\, Express\, and Transform their own Energies on the Dancefloor Together. \n \nEcstatic Dance can be your: \n1. Physical Exercise \n2. Mental Therapy \n3. Connection to Spirit \n4. Social Connection with Others \n5. Personal Connection with Self \nWe only ask that you refrain from: \n1. Talking on the Dancefloor \n2. Using your Phone \n3. Wearing Shoes \n4. Using Substances (Be Yourself!) \n \n𝑽𝒐𝒍𝒖𝒏𝒕𝒆𝒆𝒓 𝑶𝒑𝒑𝒐𝒓𝒕𝒖𝒏𝒊𝒕𝒚:Show up at 9am sharp! for Openingor ask at the door for Closing Opportunities.@ Sacred Heart Church 554 Fillmore St.\, SF\, CA Street Parking \n \n@ Sacred Heart Church (of 8 Wheels) \n554 Fillmore St.\, SF\, CA \nWebsite: https://move.love
URL:https://move.love/event/movement-ecstatic-dance-sf-habitaat/
LOCATION:554 Fillmore St\, 554 Fillmore Street\, San Francisco\, CA\, 94117\, United States
ATTACH;FMTTYPE=image/jpeg:https://mvmnt.b-cdn.net/wp-content/uploads/2025/09/ed80c64a65a8ffc4b72dbc8d30fa0415.jpg
END:VEVENT
BEGIN:VEVENT
DTSTART;TZID=America/Los_Angeles:20251005T131500
DTEND;TZID=America/Los_Angeles:20251005T160000
DTSTAMP:20260421T121044
CREATED:20250313T213504Z
LAST-MODIFIED:20250926T021726Z
UID:10000561-1759670100-1759680000@move.love
SUMMARY:Weekly Sunday Beach Ecstatic Dance
DESCRIPTION:Join us for an unforgettable dance experience on the beach in West Los Angeles! Feel the sand beneath your feet and the ocean breeze on your skin as you dance freely in a vibrant\, welcoming space. \nCome dance\, move\, express\, and connect while enjoying incredible music in some of the most beautiful locations across Los Angeles. Part silent disco\, part healthy dance party\, part rave\, and part intentional conscious dance experience—our events are centered on movement for wellbeing\, joy\, and community connection. We dance for health\, joy\, connection\, play\, and a deeper sense of community. \nThis is more than just an afternoon of movement—it’s a celebration of life and an opportunity to experience the transformative benefits of this powerful embodiment practice. \nTHE FLOW \nEach event begins with an opening circle\, offering a moment to connect\, set intentions\, and ground ourselves in presence. From there\, we take off into a 2-hour musical wave\, building in intensity and weaving sounds and rhythms from around the world. Move to the rhythm of epic live DJ sets\, surrounded by an incredible community of like-minded souls. Discover a deeper connection to yourself\, to life\, and to others as we dance by the ocean together in paradise\, moving to electrifying and transformative DJ sets that will leave you inspired and uplifted! \nCome for the MOVEMENT\, stay for the magic. We can’t wait to share this special experience with you! \nEVENT LOCATIONWEST LOS ANGELESDance floor address and directions will be included in your ticket confirmation email.
URL:https://move.love/event/weekly-sunday-outdoor-beach-ecstatic-dance/2025-10-05/
LOCATION:West LA Beach
ATTACH;FMTTYPE=image/jpeg:https://mvmnt.b-cdn.net/wp-content/uploads/2025/03/ecstatic-dance-la-beach-dance.jpg
END:VEVENT
END:VCALENDAR