BEGIN:VCALENDAR
VERSION:2.0
PRODID:-//Movement - ECPv6.15.20//NONSGML v1.0//EN
CALSCALE:GREGORIAN
METHOD:PUBLISH
X-ORIGINAL-URL:https://move.love
X-WR-CALDESC:Events for Movement
REFRESH-INTERVAL;VALUE=DURATION:PT1H
X-Robots-Tag:noindex
X-PUBLISHED-TTL:PT1H
BEGIN:VTIMEZONE
TZID:America/Los_Angeles
BEGIN:DAYLIGHT
TZOFFSETFROM:-0800
TZOFFSETTO:-0700
TZNAME:PDT
DTSTART:20240310T100000
END:DAYLIGHT
BEGIN:STANDARD
TZOFFSETFROM:-0700
TZOFFSETTO:-0800
TZNAME:PST
DTSTART:20241103T090000
END:STANDARD
BEGIN:DAYLIGHT
TZOFFSETFROM:-0800
TZOFFSETTO:-0700
TZNAME:PDT
DTSTART:20250309T100000
END:DAYLIGHT
BEGIN:STANDARD
TZOFFSETFROM:-0700
TZOFFSETTO:-0800
TZNAME:PST
DTSTART:20251102T090000
END:STANDARD
BEGIN:DAYLIGHT
TZOFFSETFROM:-0800
TZOFFSETTO:-0700
TZNAME:PDT
DTSTART:20260308T100000
END:DAYLIGHT
BEGIN:STANDARD
TZOFFSETFROM:-0700
TZOFFSETTO:-0800
TZNAME:PST
DTSTART:20261101T090000
END:STANDARD
END:VTIMEZONE
BEGIN:VEVENT
DTSTART;TZID=America/Los_Angeles:20251116T100000
DTEND;TZID=America/Los_Angeles:20251116T130000
DTSTAMP:20260421T104112
CREATED:20251104T002955Z
LAST-MODIFIED:20251112T041521Z
UID:10001350-1763287200-1763298000@move.love
SUMMARY:MOVEMENT Ecstatic Dance SF // QUINTESSENCE
DESCRIPTION:Curating a deeply intentional\, safe sacred space to connect\, explore and celebrate – by dancing together in community\, we thrive.\n\n\n9:45am – Doors Open \n10:00am – Oening Yoga Flow: KIRIN POWER \n10:45am – Opening Circle & Meditation \n11:00am – Ecstatic Dance – QUINTESSENCE \n1:00pm – Sound Bath / Closing Meditation \n1:11pm – All Blessings! \n \nImportant Notes: \n⌯ Events start promptly\, Join us for the full experience! \n⌯ All events are alcohol and substance free \n⌯ Bring your own water \n⌯ Shoes off at the door\, and no conversation on the dance floor once we begin \n⌯ Come with an open heart – ready to listen\, move & receive \n \nMOVEMENT is dedicated to nourishing a culture of creative expression through music & movement that honors the sacred. Curating a deeply intentional\, safe and sacred space to connect\, play\, celebrate and embody the Spirit of Love. By raising the vibration and dancing together in community\, we thrive. \nLearn more at https://move.love/ \n \nQUINTESSENCE // Music Facilitator\nDJ Quintessence (Lexi Battle\, she/her) is one of the most diverse and musically nuanced acts you’ll find performing today. In addition to being a lead DJ and organizer of the “Ecstaturday” Ecstatic Dance in San Francisco’s Golden Gate Park\, she is also a resident DJ in partnership with The Omni Movement\, a progressive partner dance studio located in Oakland. You’ll most commonly find her playing for Fusion Dance\, Brazilian Zouk\, or West Coast Swing around the Bay Area\, though she also holds passion for her unique take on club-style EDM. As a highly multidisciplinary DJ and music producer\, she brings lessons and influences from each of the music scenes she’s involved with into all of the others\, giving her a unique perspective that allows her to hybridize the elements that work from the different scenes and let them inform each other. \nQuintessence is a master of the intentional dance journey. She begins with tempos and rhythms designed to warm the body up while the melodic content creates emotional depth and intrigue that set the stage for what’s to come. Each stage successively builds on what we’ve experienced in the last\, taking us somewhere new that still feels part of the same story. The crescendos and climaxes interplay with periods of moderate rest and reflection to create a series of waves through various energies and moods. Finally\, we come to the sentimental landing and closing stages where we can integrate what we’ve experienced as the journey nears its end\, perhaps indulging in one final burst of joy or artistic expression before sending us off to what’s next. \nAs a dancer herself\, whose life has been transformed by the practice\, Quintessence always plays for the party she wants to be at. Her work often defies genre\, weaving through a great many of them throughout the journey in delightfully surprising ways. As she’s a multidisciplinarian with extremely broad taste\, you’ll never get the same experience with DJ Quintessence twice. She’ll make you move\, make you melt\, take you to places beyond words\, and leave you wanting more.DJ Quintessence can be found on Instagram\, SoundCloud\, Spotify\, and all other major music platforms. \n \n \nKIRIN POWER // Movement Facilitator\nKirin Power is a Bay Area based student and teacher of yoga and meditation\, and a lover of dance. \nAlchemizing yogic technologies— breath\, movement\, mantra\, & meditation\, with a thoughtful curation of music– Kirin’s inspired\, creative\, and informed offerings invite you to awaken to the wonder and Awe of being alive and embodied! \nEach flow is designed to activate your mind and body connection\, while improving your body’s flexibility and resiliency\, and of course\, empower you to express your sacred truth through movement on the dance floor. \nKirin hopes that your time together will remind you of the medicine that is gratitude\, and leave you feeling held in self love\, in savor of breath\, and at ease in heart.✨ \n \n \nA Consensual Environment \n*** As we come together in sacred movement practice\, let us remember to embody the values of consent and mindfulness. May we dance in reverence for each other’s boundaries\, always seeking clear permission before engaging in physical connection\, and maintaining awareness of the sacred space we share with our fellow dancers. \nIf at any point you find yourself in need of support or comfort\, know that you are not alone. Our Movement Church community is here to assist and guide you. Simply reach out to one of us\, and we will do our utmost to provide a safe and nurturing environment for your journey. \n \nAll are Welcome. \nEcstatic Dance is a Freeform Conscious Dance\, \nMixed by a Seasoned DJ for a Continuous Sonic Journey. \nMove however you wish\, without verbal guidance\, shoes\, or booze. \nMusic will flow through various Tempos\, Genres\, Intensities\, and Emotions\, so that Dancers may Experience\, Express\, and Transform their own Energies on the Dancefloor Together. \n \nEcstatic Dance can be your: \n1. Physical Exercise \n2. Mental Therapy \n3. Connection to Spirit \n4. Social Connection with Others \n5. Personal Connection with Self \nWe only ask that you refrain from: \n1. Talking on the Dancefloor \n2. Using your Phone \n3. Wearing Shoes \n4. Using Substances (Be Yourself!) \n \n \nVolunteer Opportunity: Show up at 9am sharp! for Openingor ask at the door for Closing Opportunities.@ Sacred Heart Church 554 Fillmore St.\, SF\, CA Street Parking \n \n@ Sacred Heart Church (of 8 Wheels) \n554 Fillmore St.\, SF\, CA \nWebsite: https://move.love
URL:https://move.love/event/movement-ecstatic-dance-sf-quintessence-2/
LOCATION:554 Fillmore St\, 554 Fillmore Street\, San Francisco\, CA\, 94117\, United States
ATTACH;FMTTYPE=image/jpeg:https://mvmnt.b-cdn.net/wp-content/uploads/2025/11/405109e326ee6963614a354c896d8774.jpg
END:VEVENT
BEGIN:VEVENT
DTSTART;TZID=America/Los_Angeles:20251116T131500
DTEND;TZID=America/Los_Angeles:20251116T160000
DTSTAMP:20260421T104112
CREATED:20250313T213504Z
LAST-MODIFIED:20250926T021726Z
UID:10000567-1763298900-1763308800@move.love
SUMMARY:Weekly Sunday Beach Ecstatic Dance
DESCRIPTION:Join us for an unforgettable dance experience on the beach in West Los Angeles! Feel the sand beneath your feet and the ocean breeze on your skin as you dance freely in a vibrant\, welcoming space. \nCome dance\, move\, express\, and connect while enjoying incredible music in some of the most beautiful locations across Los Angeles. Part silent disco\, part healthy dance party\, part rave\, and part intentional conscious dance experience—our events are centered on movement for wellbeing\, joy\, and community connection. We dance for health\, joy\, connection\, play\, and a deeper sense of community. \nThis is more than just an afternoon of movement—it’s a celebration of life and an opportunity to experience the transformative benefits of this powerful embodiment practice. \nTHE FLOW \nEach event begins with an opening circle\, offering a moment to connect\, set intentions\, and ground ourselves in presence. From there\, we take off into a 2-hour musical wave\, building in intensity and weaving sounds and rhythms from around the world. Move to the rhythm of epic live DJ sets\, surrounded by an incredible community of like-minded souls. Discover a deeper connection to yourself\, to life\, and to others as we dance by the ocean together in paradise\, moving to electrifying and transformative DJ sets that will leave you inspired and uplifted! \nCome for the MOVEMENT\, stay for the magic. We can’t wait to share this special experience with you! \nEVENT LOCATIONWEST LOS ANGELESDance floor address and directions will be included in your ticket confirmation email.
URL:https://move.love/event/weekly-sunday-outdoor-beach-ecstatic-dance/2025-11-16/
LOCATION:West LA Beach
ATTACH;FMTTYPE=image/jpeg:https://mvmnt.b-cdn.net/wp-content/uploads/2025/03/ecstatic-dance-la-beach-dance.jpg
END:VEVENT
END:VCALENDAR