BEGIN:VCALENDAR
VERSION:2.0
PRODID:-//Movement - ECPv6.15.20//NONSGML v1.0//EN
CALSCALE:GREGORIAN
METHOD:PUBLISH
X-WR-CALNAME:Movement
X-ORIGINAL-URL:https://move.love
X-WR-CALDESC:Events for Movement
REFRESH-INTERVAL;VALUE=DURATION:PT1H
X-Robots-Tag:noindex
X-PUBLISHED-TTL:PT1H
BEGIN:VTIMEZONE
TZID:America/Los_Angeles
BEGIN:DAYLIGHT
TZOFFSETFROM:-0800
TZOFFSETTO:-0700
TZNAME:PDT
DTSTART:20240310T100000
END:DAYLIGHT
BEGIN:STANDARD
TZOFFSETFROM:-0700
TZOFFSETTO:-0800
TZNAME:PST
DTSTART:20241103T090000
END:STANDARD
BEGIN:DAYLIGHT
TZOFFSETFROM:-0800
TZOFFSETTO:-0700
TZNAME:PDT
DTSTART:20250309T100000
END:DAYLIGHT
BEGIN:STANDARD
TZOFFSETFROM:-0700
TZOFFSETTO:-0800
TZNAME:PST
DTSTART:20251102T090000
END:STANDARD
BEGIN:DAYLIGHT
TZOFFSETFROM:-0800
TZOFFSETTO:-0700
TZNAME:PDT
DTSTART:20260308T100000
END:DAYLIGHT
BEGIN:STANDARD
TZOFFSETFROM:-0700
TZOFFSETTO:-0800
TZNAME:PST
DTSTART:20261101T090000
END:STANDARD
END:VTIMEZONE
BEGIN:VEVENT
DTSTART;TZID=America/Los_Angeles:20251221T100000
DTEND;TZID=America/Los_Angeles:20251221T131100
DTSTAMP:20260421T090834
CREATED:20251215T034721Z
LAST-MODIFIED:20251221T210255Z
UID:10001356-1766311200-1766322660@move.love
SUMMARY:MOVEMENT Ecstatic Dance SF: Winter Solstice // ODYSSEUS
DESCRIPTION:Curating a deeply felt and intentional space to connect\, dance\, celebrate & transform!\n\n\n9:45am – Doors Open \n10:00am – Contact Dance Class: BRIGITTE WITTMER \n10:45am – Opening Circle & Meditation \n11:00am – Ecstatic Dance – CODESTAR \n1:00pm – Sound Bath / Closing Meditation \n \nImportant Notes: \n⌯ Events start promptly\, Join us for the full experience! \n⌯ All events are alcohol and substance free \n⌯ Bring your own water \n⌯ Shoes off at the door\, and no conversation on the dance floor once we begin \n⌯ Come with an open heart – ready to listen\, move & receive \n \nMOVEMENT is dedicated to nourishing a culture of creative expression through music & movement that honors the sacred. Curating a deeply intentional\, safe and sacred space to connect\, play\, celebrate and embody the Spirit of Love. By raising the vibration and dancing together in community\, we thrive. \nLearn more at https://move.love/ \n \nODYSSEUS // Music Facilitator\nOdysseus has been exploring the superpowers of dance\, (especially when aligned with beautiful Hawaiian Islands) Earth energy points\, celestial alignments\, and community\, since the late nineties\, in Los Angeles\, when he was a resident DJ for Integral Gathering and Zodiac Tribe \nIn 2000\, Odysseus moved to the Big Island of Hawaii to explore how the unity\, harmony\, heart-opening\, expansive awareness\, and joy people were experiencing through the dance could grow and how it could extend into the wider community. \nThe iconic full moon gatherings that he spearheaded on the Big Island\, laid the fertile ground from which ecstatic dance sprung and the foundation for what is a thriving intentional Dance community. Odysseus has been mixing elegant\, tribal beats in many forms\, since the mid-nineties\, often with live musicians. From the Southern California deserts to the Greek islands and Hawaiian rainforests\, his expansive sounds have honored many moons and brought many tribes together \nHe has woven joy-infused ecstatic dance journeys for dancers globally\, since their inception\, more than two decades ago constantly seeking to evolve and infuse the dance experience and the collective heartbeat with uplifting\, healing intentions through the lenses of seeker and alchemist… – Certified OG from the Mothership! \n \nBRIGITTE WITTMER // Movement Facilitaor\nInternational dance artist\, instructor\, performer\, and transformational movement guide. \nHer journey has taken her across more than ten countries—from the studios of Broadway Dance Center in New York to the somatic richness of Faculdade Angel Vianna in Rio de Janeiro. Rooted in contemporary dance and Brazilian social dances\, her path weaves through somatic education\, contact improvisation\, bodywork\, yoga\, gyrokinesis\, and transpersonal psychology. Brigitte’s passion is in integrating these worlds—guiding people into deeper connection with themselves through embodied movement and creative expression. \nAs part of her ongoing research\, she developed Liquid Leading—a practice that transcends traditional gender roles and invites each dancer to speak their truth through movement. It transforms dance into a co-creative language where stories can be exchanged\, not just performed. \n“To me\, dance is more than art or fitness—it’s a gateway. A tool for awareness\, expression\, healing\, and transformation. I hold space for play\, experimentation\, and deep listening—so you can return to your body\, your power\, and the ever-evolving dance of your life.” \nLet’s move together—and discover what’s possible when you remember the wisdom already living within you! \n \n \nA Consensual Environment \n*** As we come together in sacred movement practice\, let us remember to embody the values of consent and mindfulness. May we dance in reverence for each other’s boundaries\, always seeking clear permission before engaging in physical connection\, and maintaining awareness of the sacred space we share with our fellow dancers. \nIf at any point you find yourself in need of support or comfort\, know that you are not alone. Our Movement Church community is here to assist and guide you. Simply reach out to one of us\, and we will do our utmost to provide a safe and nurturing environment for your journey. \n\nAll are Welcome. \nEcstatic Dance is a Freeform Conscious Dance\, \nMixed by a Seasoned DJ for a Continuous Sonic Journey. \nMove however you wish\, without verbal guidance\, shoes\, or booze. \nMusic will flow through various Tempos\, Genres\, Intensities\, and Emotions\, so that Dancers may Experience\, Express\, and Transform their own Energies on the Dancefloor Together. \n \nEcstatic Dance can be your: \n1. Physical Exercise \n2. Mental Therapy \n3. Connection to Spirit \n4. Social Connection with Others \n5. Personal Connection with Self \nWe only ask that you refrain from: \n1. Talking on the Dancefloor \n2. Using your Phone \n3. Wearing Shoes \n4. Using Substances (Be Yourself!) \n \nVolunteer Opportunity: Show up at 9am sharp! for Openingor ask at the door for Closing Opportunities.@ Sacred Heart Church 554 Fillmore St.\, SF\, CA Street Parking \n \n@ Sacred Heart Church (of 8 Wheels) \n554 Fillmore St.\, SF\, CA \nWebsite: https://move.love
URL:https://move.love/event/movement-ecstatic-dance-sf-winter-solstice-odysseus/
LOCATION:554 Fillmore St\, 554 Fillmore Street\, San Francisco\, CA\, 94117\, United States
ATTACH;FMTTYPE=image/jpeg:https://mvmnt.b-cdn.net/wp-content/uploads/2025/12/45e8bb76655fe6954d6e5106186bcc42.jpg
END:VEVENT
END:VCALENDAR