BEGIN:VCALENDAR
VERSION:2.0
PRODID:-//Movement - ECPv6.15.20//NONSGML v1.0//EN
CALSCALE:GREGORIAN
METHOD:PUBLISH
X-WR-CALNAME:Movement
X-ORIGINAL-URL:https://move.love
X-WR-CALDESC:Events for Movement
REFRESH-INTERVAL;VALUE=DURATION:PT1H
X-Robots-Tag:noindex
X-PUBLISHED-TTL:PT1H
BEGIN:VTIMEZONE
TZID:America/Los_Angeles
BEGIN:DAYLIGHT
TZOFFSETFROM:-0800
TZOFFSETTO:-0700
TZNAME:PDT
DTSTART:20250309T100000
END:DAYLIGHT
BEGIN:STANDARD
TZOFFSETFROM:-0700
TZOFFSETTO:-0800
TZNAME:PST
DTSTART:20251102T090000
END:STANDARD
BEGIN:DAYLIGHT
TZOFFSETFROM:-0800
TZOFFSETTO:-0700
TZNAME:PDT
DTSTART:20260308T100000
END:DAYLIGHT
BEGIN:STANDARD
TZOFFSETFROM:-0700
TZOFFSETTO:-0800
TZNAME:PST
DTSTART:20261101T090000
END:STANDARD
BEGIN:DAYLIGHT
TZOFFSETFROM:-0800
TZOFFSETTO:-0700
TZNAME:PDT
DTSTART:20270314T100000
END:DAYLIGHT
BEGIN:STANDARD
TZOFFSETFROM:-0700
TZOFFSETTO:-0800
TZNAME:PST
DTSTART:20271107T090000
END:STANDARD
END:VTIMEZONE
BEGIN:VEVENT
DTSTART;TZID=America/Los_Angeles:20260208T100000
DTEND;TZID=America/Los_Angeles:20260208T130000
DTSTAMP:20260421T055754
CREATED:20260115T020307Z
LAST-MODIFIED:20260208T200313Z
UID:10001363-1770544800-1770555600@move.love
SUMMARY:MOVEMENT Ecstatic Dance SF // AGUAMAYYIM
DESCRIPTION:Curating a deeply intentional\, safe sacred space to explore\, connect and celebrate – by dancing together in community\, we thrive.\n\n\n9:45am – Doors Open \n10:00am – Blindfolded Contact Improv Class: Gabriel & Candice \n10:45am – Opening Circle \n11:00am – Ecstatic Dance: AGUAMAYYIM \n1:00pm – Sound Bath / Closing Meditation \n1:11pm – All Blessings! \n \nImportant Notes: \n⌯ Events start promptly\, Join us for the full experience! \n⌯ All events are alcohol and substance free \n⌯ Bring your own water \n⌯ Shoes off at the door\, and no conversation on the dance floor once we begin \n⌯ Come with an open heart – ready to listen\, move & receive \n \nMOVEMENT is dedicated to nourishing a culture of creative expression through music & movement that honors the sacred. Curating a deeply intentional\, safe and sacred space to connect\, play\, celebrate and embody the Spirit of Love. By raising the vibration and dancing together in community\, we thrive. \nLearn more at https://move.love/ \n \n \nAGUAMAYYIM // music facilitator\nAguaMayyim is the musical fusion of Rose Dayal and Franky Helix\, arising from the vibrant shores of Santa Cruz\, CA. United by the healing power of sound\, they seamlessly blend their talents as DJs\, producers\, and musicians. \nFor the past 4 years\, they have produced conscious dance events in Santa Cruz\, CA. They have played throughout the Bay Area and beyond\, sharing the stage with Mose\, Yemanjo\, KR3TURE\, Equanimous\, Moontricks\, Phutureprimitive\, Scott Nice and more… \nWith a diverse sonic palette\, they explore deep melodic bass\, healing medicine music\, tribal rhythms\, tropical vibes\, organic sounds\, international influences\, and hip-hop. Join them on a rhythmic journey that weaves an inspiring tapestry for movement. \nhttps://aguamayyim.com/ \n \nBlindfolded Contact – Surrendering to Our Inner Sight\nBlindfolded Contact Dance is a slow and gentle experience—for both beginners and experienced dancers alike. The constraint of the blindfold invites dancers to explore other senses to find connection\, expression\, pleasure\, and safety. These workshops take participants on a journey of somatic self-discovery and non-verbal consent via solo and group exercises—both with and without blindfolds. \n \nCANDICE HOLDORF // movement facilitator\nCandice is a writer and coach with a focus on reclaiming erotic embodiment through exploring shame and shadow. She brings her passion for movement\, play\, and creative self-expression to her work as a group facilitator. She has trained in various healing modalities such as yoga and orgasmic meditation as well as studied Alexander Technique and theatrical movement while getting her BFA at NYU. theorgasmiclife.com \n \nGABRIEL DIAMOND // movement facilitator\nGabriel is a long-time dancer who has practiced many modalities of conscious movement. He has developed a passion for exploring how blindfolds can be be used as a medicine and tool for transcending biases\, cravings\, and aversions. His work as an artist explores the intersection of activism\, street theatre\, shadow work\, and embodiment. He is the co-founder of Vulnerable Rally. He is a filmmaker by trade with a background in theatre. outsidefilms.com \n \nAll are Welcome. \nEcstatic Dance is a Freeform Conscious Dance\, \nMixed by a Seasoned DJ for a Continuous Sonic Journey. \nMove however you wish\, without verbal guidance\, shoes\, or booze. \nMusic will flow through various Tempos\, Genres\, Intensities\, and Emotions\, so that Dancers may Experience\, Express\, and Transform their own Energies on the Dancefloor Together. \n \nEcstatic Dance can be your: \n1. Physical Exercise \n2. Mental Therapy \n3. Connection to Spirit \n4. Social Connection with Others \n5. Personal Connection with Self \n \nWe only ask that you refrain from: \n1. Talking on the Dancefloor \n2. Using your Phone \n3. Wearing Shoes \n4. Using Substances (Be Yourself!) \n \nVolunteer Opportunity: Show up at 9am sharp! for Openingor ask at the door for Closing \n@ Sacred Heart Church (of 8 Wheels) \n554 Fillmore St.\, SF\, CA \n \nWebsite: https://move.love
URL:https://move.love/event/movement-ecstatic-dance-sf-aguamayyim-2/
LOCATION:554 Fillmore St\, 554 Fillmore Street\, San Francisco\, CA\, 94117\, United States
ATTACH;FMTTYPE=image/jpeg:https://mvmnt.b-cdn.net/wp-content/uploads/2026/01/431d353888a78b677734a9b0a88e7797.jpg
END:VEVENT
END:VCALENDAR